BEGIN:VCALENDAR
VERSION:2.0
PRODID:-//ChamberMaster//Event Calendar 2.0//EN
METHOD:PUBLISH
X-PUBLISHED-TTL:P3D
REFRESH-INTERVAL:P3D
CALSCALE:GREGORIAN
BEGIN:VEVENT
DTSTART:20110804T233000Z
DTEND:20110805T003000Z
X-MICROSOFT-CDO-ALLDAYEVENT:FALSE
SUMMARY:Seward Memorial Library will host Henry Doorly Zoo Program
DESCRIPTION:Staff from Omaha's Henry Doorly Zoo outreach program will share information abour rainforest wildlife in the Amazon region.  Everyone is invited to this one-hour informative program\, but this event is not intended for unattended young children. Parents may bring school age children who would benefit from this presentation.
X-ALT-DESC;FMTTYPE=text/html:Staff from Omaha&#39\;s Henry Doorly Zoo outreach program will share information abour rainforest wildlife in the Amazon region.&nbsp\; Everyone is invited to this one-hour informative program\, but this event is not intended for unattended young children. Parents may bring school age children who would benefit from this presentation.&nbsp\; 
LOCATION:Seward Memorial Library
UID:e.865.1132
SEQUENCE:3
DTSTAMP:20260424T184954Z
URL:https://business.cultivatesewardcounty.com/events/details/seward-memorial-library-will-host-henry-doorly-zoo-program-08-04-2011-1132
END:VEVENT

END:VCALENDAR
