BEGIN:VCALENDAR
VERSION:2.0
PRODID:-//ChamberMaster//Event Calendar 2.0//EN
METHOD:PUBLISH
X-PUBLISHED-TTL:P3D
REFRESH-INTERVAL:P3D
CALSCALE:GREGORIAN
BEGIN:VEVENT
DTSTART;VALUE=DATE:20130529
DTEND;VALUE=DATE:20130530
TRANSP:TRANSPARENT
X-MICROSOFT-CDO-ALLDAYEVENT:TRUE
SUMMARY:Seward Memorial Library Summer Reading Clubs BEGINS
DESCRIPTION:Seward Memorial Library Summer Reading Clubs BEGIN.  Sign up for both children and adult clubs.
X-ALT-DESC;FMTTYPE=text/html:Seward Memorial Library Summer Reading Clubs BEGIN.&nbsp\; Sign up for both children and adult clubs.
LOCATION:Seward Memorial Library 233 South 5th St. Seward\, NE
UID:e.865.2289
SEQUENCE:3
DTSTAMP:20260422T014956Z
URL:https://business.cultivatesewardcounty.com/events/details/seward-memorial-library-summer-reading-clubs-begins-05-29-2013-2289
END:VEVENT

END:VCALENDAR
