BEGIN:VCALENDAR
VERSION:2.0
PRODID:-//ChamberMaster//Event Calendar 2.0//EN
METHOD:PUBLISH
X-PUBLISHED-TTL:P3D
REFRESH-INTERVAL:P3D
CALSCALE:GREGORIAN
BEGIN:VEVENT
DTSTART;VALUE=DATE:20140521
DTEND;VALUE=DATE:20140522
TRANSP:TRANSPARENT
X-MICROSOFT-CDO-ALLDAYEVENT:TRUE
SUMMARY:Seward Memorial Library Summer Library Program Registration begins
DESCRIPTION:Seward Memorial Library Summer Library Program Registration begins
X-ALT-DESC;FMTTYPE=text/html:Seward Memorial Library Summer Library Program Registration begins
LOCATION:Seward Memorial Library 233 South 5th St. Seward\, NE
UID:e.865.3858
SEQUENCE:3
DTSTAMP:20260421T094134Z
URL:https://business.cultivatesewardcounty.com/events/details/seward-memorial-library-summer-library-program-registration-begins-05-21-2014-3858
END:VEVENT

END:VCALENDAR
