BEGIN:VCALENDAR
VERSION:2.0
PRODID:-//ChamberMaster//Event Calendar 2.0//EN
METHOD:PUBLISH
X-PUBLISHED-TTL:P3D
REFRESH-INTERVAL:P3D
CALSCALE:GREGORIAN
BEGIN:VEVENT
DTSTART:20130604T173000Z
DTEND:20130604T183000Z
X-MICROSOFT-CDO-ALLDAYEVENT:FALSE
SUMMARY:Seward Memorial Library Random Reads Book Group
DESCRIPTION:Seward Memorial Library Random Reads Book Group\n\n\n\nIf you would like to visit or join a club\, please call the library at 402-643-3318.  To view a listing of the current book being read and all previous book selections visit the library website at   http://www.sewardlibrary.org
X-ALT-DESC;FMTTYPE=text/html:Seward Memorial Library Random Reads Book Group<br />\n<br />\nIf you would like to visit or join a club\, please call the library at 402-643-3318.&nbsp\; To view a listing of the current book being read and all previous book selections visit the library website at&nbsp\;&nbsp\; <a href="http://www.sewardlibrary.org">http://www.sewardlibrary.org</a>
LOCATION:Seward Memorial Library 233 South 5th St. Seward NE
UID:e.865.2145
SEQUENCE:3
DTSTAMP:20260422T002758Z
URL:https://business.cultivatesewardcounty.com/events/details/seward-memorial-library-random-reads-book-group-06-04-2013-2145
END:VEVENT

END:VCALENDAR
