BEGIN:VCALENDAR
VERSION:2.0
PRODID:-//ChamberMaster//Event Calendar 2.0//EN
METHOD:PUBLISH
X-PUBLISHED-TTL:P3D
REFRESH-INTERVAL:P3D
CALSCALE:GREGORIAN
BEGIN:VEVENT
DTSTART:20140408T000000Z
DTEND:20140408T010000Z
X-MICROSOFT-CDO-ALLDAYEVENT:FALSE
SUMMARY:Seward Memorial Library Modern Quilts Program
DESCRIPTION:Seward Memorial Library Modern Quilts Program\n\n\n\nhttp://www.sewardlibrary.org/
X-ALT-DESC;FMTTYPE=text/html:Seward Memorial Library Modern Quilts Program<br />\n<br />\n<a href="http://www.sewardlibrary.org/">http://www.sewardlibrary.org/</a>
LOCATION:Seward Memorial Library 233 South 5th Seward \, NE
UID:e.865.3542
SEQUENCE:3
DTSTAMP:20260421T112621Z
URL:https://business.cultivatesewardcounty.com/events/details/seward-memorial-library-modern-quilts-program-04-07-2014-3542
END:VEVENT

END:VCALENDAR
