BEGIN:VCALENDAR
VERSION:2.0
PRODID:-//ChamberMaster//Event Calendar 2.0//EN
METHOD:PUBLISH
X-PUBLISHED-TTL:P3D
REFRESH-INTERVAL:P3D
CALSCALE:GREGORIAN
BEGIN:VEVENT
DTSTART:20130618T170000Z
DTEND:20130618T180000Z
X-MICROSOFT-CDO-ALLDAYEVENT:FALSE
SUMMARY:Seward Memorial Library Midday Mysteries Book Group
DESCRIPTION:http://www.sewardlibrary.orgSeward Memorial Library Midday Mysteries Book Group\n\n\n\nIf you would like to visit or join a club\, please call the library at 402-643-3318.  To view a listing of the current book being read and all previous book selections visit the library website at   www.sewardlibrary.org
X-ALT-DESC;FMTTYPE=text/html:<a href="http://www.sewardlibrary.org">http://www.sewardlibrary.org</a>Seward Memorial Library Midday Mysteries Book Group<br />\n<br />\nIf you would like to visit or join a club\, please call the library at 402-643-3318.&nbsp\; To view a listing of the current book being read and all previous book selections visit the library website at&nbsp\;&nbsp\; <a href="http://www.sewardlibrary.org">www.sewardlibrary.org </a>
LOCATION:Seward Memorial Library 233 South 5th St. Seward NE
UID:e.865.2146
SEQUENCE:3
DTSTAMP:20260422T014828Z
URL:https://business.cultivatesewardcounty.com/events/details/seward-memorial-library-midday-mysteries-book-group-06-18-2013-2146
END:VEVENT

END:VCALENDAR
