BEGIN:VCALENDAR
VERSION:2.0
PRODID:-//ChamberMaster//Event Calendar 2.0//EN
METHOD:PUBLISH
X-PUBLISHED-TTL:P3D
REFRESH-INTERVAL:P3D
CALSCALE:GREGORIAN
BEGIN:VEVENT
DTSTART:20131006T200000Z
DTEND:20131006T210000Z
X-MICROSOFT-CDO-ALLDAYEVENT:FALSE
SUMMARY:Seward Memorial Library Lower Level Dedication and Open House
DESCRIPTION:Seward Memorial Library Dedication & Open House  -  The public is invited to celebrate the opening of the lower level of the library.  Mayor Eickmeier will participate and a special guest\, Sally Ganem\, Nebraska's First Lady\, will also be present.  Guests are invited downstairs for refreshments\, souvenirs and viewing of the new lower level area.
X-ALT-DESC;FMTTYPE=text/html:Seward Memorial Library Dedication &amp\; Open House&nbsp\; -&nbsp\; The public is invited to celebrate the opening of the lower level of the library.&nbsp\; Mayor Eickmeier will participate and a special guest\, Sally Ganem\, Nebraska&#39\;s First Lady\, will also be present.&nbsp\; Guests are invited downstairs for refreshments\, souvenirs and viewing of the new lower level area.&nbsp\; 
LOCATION:Seward Memorial Library 223 South 5th St. Seward\, NE
UID:e.865.3408
SEQUENCE:3
DTSTAMP:20260421T193014Z
URL:https://business.cultivatesewardcounty.com/events/details/seward-memorial-library-lower-level-dedication-and-open-house-10-06-2013-3408
END:VEVENT

END:VCALENDAR
