BEGIN:VCALENDAR
VERSION:2.0
PRODID:-//ChamberMaster//Event Calendar 2.0//EN
METHOD:PUBLISH
X-PUBLISHED-TTL:P3D
REFRESH-INTERVAL:P3D
CALSCALE:GREGORIAN
BEGIN:VEVENT
DTSTART:20130709T000000Z
DTEND:20130709T010000Z
X-MICROSOFT-CDO-ALLDAYEVENT:FALSE
SUMMARY:Seward Memorial Library Community Book Discussion
DESCRIPTION:Seward Memorial Library community discussion on Willa Cather's "O Pioneers!  " http://www.sewardlibrary.org/
X-ALT-DESC;FMTTYPE=text/html:<p>\n	Seward Memorial Library community discussion on Willa Cather&#39\;s &quot\;O Pioneers!&nbsp\; &quot\; <a href="http://www.sewardlibrary.org/">http://www.sewardlibrary.org</a>/<br />\n	<br />\n	&nbsp\;</p>\n
LOCATION:Seward Memorial Library 233 South 5th St. Seward\, NE
UID:e.865.2826
SEQUENCE:3
DTSTAMP:20260422T002953Z
URL:https://business.cultivatesewardcounty.com/events/details/seward-memorial-library-community-book-discussion-07-08-2013-2826
END:VEVENT

END:VCALENDAR
