BEGIN:VCALENDAR
VERSION:2.0
PRODID:-//ChamberMaster//Event Calendar 2.0//EN
METHOD:PUBLISH
X-PUBLISHED-TTL:P3D
REFRESH-INTERVAL:P3D
CALSCALE:GREGORIAN
BEGIN:VEVENT
DTSTART:20140413T190000Z
DTEND:20140413T200000Z
X-MICROSOFT-CDO-ALLDAYEVENT:FALSE
SUMMARY:Seward Memorial Library Book Review Bingo
DESCRIPTION:Seward Memorial Library Book Review Bingo  -  staff review notable books\; book titles are on paper for participants to mark off to win bingo\n\n\n\nhttp://www.sewardlibrary.org/
X-ALT-DESC;FMTTYPE=text/html:Seward Memorial Library Book Review Bingo&nbsp\; -&nbsp\; staff review notable books\; book titles are on paper for participants to mark off to win bingo<br />\n<br />\n<a href="http://www.sewardlibrary.org/">http://www.sewardlibrary.org/</a>
LOCATION:Seward Memorial Library 233 South 5th Seward \, NE
UID:e.865.3545
SEQUENCE:3
DTSTAMP:20260421T114459Z
URL:https://business.cultivatesewardcounty.com/events/details/seward-memorial-library-book-review-bingo-04-13-2014-3545
END:VEVENT

END:VCALENDAR
