BEGIN:VCALENDAR
VERSION:2.0
PRODID:-//ChamberMaster//Event Calendar 2.0//EN
METHOD:PUBLISH
X-PUBLISHED-TTL:P3D
REFRESH-INTERVAL:P3D
CALSCALE:GREGORIAN
BEGIN:VEVENT
DTSTART:20130729T220000Z
DTEND:20130730T020000Z
X-MICROSOFT-CDO-ALLDAYEVENT:FALSE
SUMMARY:Seward Kiwanis Golf Tournament
DESCRIPTION:Seward Kiwanis Golf Tournament\n\n	4 Person Team\n\n	To Benefit Kiwanis Community Projects\n\n	 \n\n	For information or registration forms contact: Courtney Meyer at 402-641-5616 or Josh Fields at 402-510-1050 or email Courtney at courtney.meyer@cunu.edu.
X-ALT-DESC;FMTTYPE=text/html:<div style="text-align: center\;">\n	Seward Kiwanis Golf Tournament<br />\n	4 Person Team<br />\n	To Benefit Kiwanis Community Projects<br />\n	&nbsp\;</div>\n<div>\n	For information or registration forms contact: Courtney Meyer at 402-641-5616 or Josh Fields at 402-510-1050 or email Courtney at courtney.meyer@cunu.edu.</div>\n<div>\n	<br />\n	&nbsp\;</div>\n
LOCATION:Seward Country Club
UID:e.865.2873
SEQUENCE:3
DTSTAMP:20260421T231152Z
URL:https://business.cultivatesewardcounty.com/events/details/seward-kiwanis-golf-tournament-07-29-2013-2873
END:VEVENT

END:VCALENDAR
