BEGIN:VCALENDAR
VERSION:2.0
PRODID:-//ChamberMaster//Event Calendar 2.0//EN
METHOD:PUBLISH
X-PUBLISHED-TTL:P3D
REFRESH-INTERVAL:P3D
CALSCALE:GREGORIAN
BEGIN:VEVENT
DTSTART:20140505T210000Z
DTEND:20140506T000000Z
X-MICROSOFT-CDO-ALLDAYEVENT:FALSE
SUMMARY:Seward JV Track Invitational
DESCRIPTION:Seward JV Track Invitational
X-ALT-DESC;FMTTYPE=text/html:Seward JV Track Invitational
LOCATION:Seward High School 532 Northern Heights Seward\, NE
UID:e.865.3844
SEQUENCE:3
DTSTAMP:20260421T100343Z
URL:https://business.cultivatesewardcounty.com/events/details/seward-jv-track-invitational-05-05-2014-3844
END:VEVENT

END:VCALENDAR
