BEGIN:VCALENDAR
VERSION:2.0
PRODID:-//ChamberMaster//Event Calendar 2.0//EN
METHOD:PUBLISH
X-PUBLISHED-TTL:P3D
REFRESH-INTERVAL:P3D
CALSCALE:GREGORIAN
BEGIN:VEVENT
DTSTART:20131116T150000Z
DTEND:20131116T213000Z
X-MICROSOFT-CDO-ALLDAYEVENT:FALSE
SUMMARY:Seward Junior Women's Club Craft Show
DESCRIPTION:Craft Show -  lots of craft items\, all handmade\, just in time to purchase for Christmas gifts\n\n\n\nhttp:www.sewardjuniorwomenscraftshow.weebly.com
X-ALT-DESC;FMTTYPE=text/html:Craft Show -&nbsp\; lots of craft items\, all handmade\, just in time to purchase for Christmas gifts<br />\n<br />\n<a href="http://www.sewardjuniorwomenscraftshow.weebly.com">http:www.</a><a href="http://sewardjuniorwomenscraftshow.weebly.com">sewardjuniorwomenscraftshow.weebly.com</a>
LOCATION:Seward County Fairgrounds 500 North 14th St. Seward\, NE
UID:e.865.2876
SEQUENCE:3
DTSTAMP:20260421T180313Z
URL:https://business.cultivatesewardcounty.com/events/details/seward-junior-women-s-club-craft-show-11-16-2013-2876
END:VEVENT

END:VCALENDAR
