BEGIN:VCALENDAR
VERSION:2.0
PRODID:-//ChamberMaster//Event Calendar 2.0//EN
METHOD:PUBLISH
X-PUBLISHED-TTL:P3D
REFRESH-INTERVAL:P3D
CALSCALE:GREGORIAN
BEGIN:VEVENT
DTSTART:20121117T150000Z
DTEND:20121117T213000Z
X-MICROSOFT-CDO-ALLDAYEVENT:FALSE
SUMMARY:Seward Junior Women's Club 32 Annual Craft Show
DESCRIPTION:Over 100 handmade craft booths in two buildings\, Harverst Hall and Ag Pavilion\n\nOver 1\,000 visiters
X-ALT-DESC;FMTTYPE=text/html:Over 100 handmade craft booths in two buildings\, Harverst Hall and Ag Pavilion<br />\nOver 1\,000 visiters
LOCATION:Seward Fair Grounds 400 N 14th Street
UID:e.865.1374
SEQUENCE:3
DTSTAMP:20260422T101439Z
URL:https://business.cultivatesewardcounty.com/events/details/seward-junior-women-s-club-32-annual-craft-show-11-17-2012-1374
END:VEVENT

END:VCALENDAR
