BEGIN:VCALENDAR
VERSION:2.0
PRODID:-//ChamberMaster//Event Calendar 2.0//EN
METHOD:PUBLISH
X-PUBLISHED-TTL:P3D
REFRESH-INTERVAL:P3D
CALSCALE:GREGORIAN
BEGIN:VEVENT
DTSTART:20131102T230000Z
DTEND:20131103T010000Z
X-MICROSOFT-CDO-ALLDAYEVENT:FALSE
SUMMARY:Seward High School Opening Night Vocal Program
DESCRIPTION:Seward High School "Opening Night" Vocal Program.  This is the Friends of Choral Music fundraiser.\n\nThere is a "plethora" of sweets to choose from and a diabetic table\, coffee\, tea and water\, beginning at 6:00 pm.  T\n\n\n\nMusic is performed by the Seward High School Mied and Concert choirs along with the Seward High Swing Choir's first performance.  Music begins at 7:00 pm
X-ALT-DESC;FMTTYPE=text/html:Seward High School &quot\;Opening Night&quot\; Vocal Program.&nbsp\; This is the Friends of Choral Music fundraiser.<br />\nThere is a &quot\;plethora&quot\; of sweets to choose from and a diabetic table\, coffee\, tea and water\, beginning at 6:00 pm.&nbsp\; T<br />\n<br />\nMusic is performed by the Seward High School Mied and Concert choirs along with the Seward High Swing Choir&#39\;s first performance.&nbsp\; Music&nbsp\;begins at 7:00 pm
LOCATION:Seward High School New Theater 532 Northern Heights Dr. Seward\, NE
UID:e.865.3328
SEQUENCE:3
DTSTAMP:20260421T175648Z
URL:https://business.cultivatesewardcounty.com/events/details/seward-high-school-opening-night-vocal-program-11-02-2013-3328
END:VEVENT

END:VCALENDAR
