BEGIN:VCALENDAR
VERSION:2.0
PRODID:-//ChamberMaster//Event Calendar 2.0//EN
METHOD:PUBLISH
X-PUBLISHED-TTL:P3D
REFRESH-INTERVAL:P3D
CALSCALE:GREGORIAN
BEGIN:VEVENT
DTSTART:20140613T220000Z
DTEND:20140614T010000Z
X-MICROSOFT-CDO-ALLDAYEVENT:FALSE
SUMMARY:Seward High School Open House\, Reception with Silent Auction\, Red Path Gallery
DESCRIPTION:Seward High School Open House and Reception with Silent Auction.  Proceeds go to the high school students art trip to Europe.  Join us from 5 pm to 8 pm in the Cardinal Gallery at the Red Path Gallery.\n\nhttp://www.redpathgallery.com
X-ALT-DESC;FMTTYPE=text/html:Seward High School Open House and Reception with Silent Auction.&nbsp\; Proceeds go to the high school students art trip to Europe.&nbsp\; Join us from 5 pm to 8 pm in the Cardinal Gallery at the Red Path Gallery.<br />\n<a href="http://www.redpathgallery.com">http://www.redpathgallery.com</a>
LOCATION:Red Path Gallery 514 Seward St. Seward\, NE
UID:e.865.3857
SEQUENCE:3
DTSTAMP:20260421T084113Z
URL:https://business.cultivatesewardcounty.com/events/details/seward-high-school-open-house-reception-with-silent-auction-red-path-gallery-06-13-2014-3857
END:VEVENT

END:VCALENDAR
