BEGIN:VCALENDAR
VERSION:2.0
PRODID:-//ChamberMaster//Event Calendar 2.0//EN
METHOD:PUBLISH
X-PUBLISHED-TTL:P3D
REFRESH-INTERVAL:P3D
CALSCALE:GREGORIAN
BEGIN:VEVENT
DTSTART:20131116T010000Z
DTEND:20131116T030000Z
X-MICROSOFT-CDO-ALLDAYEVENT:FALSE
SUMMARY:Seward High School One Act Plays
DESCRIPTION:Seward High School One Act Plays    -  check website for further details\n\n\n\nhttp://www.sewardpublicschools.org/
X-ALT-DESC;FMTTYPE=text/html:Seward High School One Act Plays&nbsp\;&nbsp\;&nbsp\;&nbsp\;-&nbsp\; check website for further details<br />\n<br />\n<a href="http://www.sewardpublicschools.org/">http://www.sewardpublicschools.org/</a>
LOCATION:Seward High School New Theater 532 Northern Heights Seward\, NE
UID:e.865.3321
SEQUENCE:3
DTSTAMP:20260421T175912Z
URL:https://business.cultivatesewardcounty.com/events/details/seward-high-school-one-act-plays-11-15-2013-3321
END:VEVENT

END:VCALENDAR
