BEGIN:VCALENDAR
VERSION:2.0
PRODID:-//ChamberMaster//Event Calendar 2.0//EN
METHOD:PUBLISH
X-PUBLISHED-TTL:P3D
REFRESH-INTERVAL:P3D
CALSCALE:GREGORIAN
BEGIN:VEVENT
DTSTART:20140322T000000Z
DTEND:20140322T013000Z
X-MICROSOFT-CDO-ALLDAYEVENT:FALSE
SUMMARY:Seward High School Musical
DESCRIPTION:Seward High School Musical
X-ALT-DESC;FMTTYPE=text/html:Seward High School Musical
LOCATION:Seward High School New Theater 532 Northern Heights Drive Seward\, NE
UID:e.865.3574
SEQUENCE:3
DTSTAMP:20260421T142043Z
URL:https://business.cultivatesewardcounty.com/events/details/seward-high-school-musical-03-21-2014-3574
END:VEVENT

END:VCALENDAR
