BEGIN:VCALENDAR
VERSION:2.0
PRODID:-//ChamberMaster//Event Calendar 2.0//EN
METHOD:PUBLISH
X-PUBLISHED-TTL:P3D
REFRESH-INTERVAL:P3D
CALSCALE:GREGORIAN
BEGIN:VEVENT
DTSTART:20131121T010000Z
DTEND:20131121T020000Z
X-MICROSOFT-CDO-ALLDAYEVENT:FALSE
SUMMARY:Seward High School & Middle School Jazz Band Concert
DESCRIPTION:Seward High School and Middle School Jazz Band Concert
X-ALT-DESC;FMTTYPE=text/html:Seward High School and Middle School Jazz Band Concert
LOCATION:Seward High School New Theater 532 Northern Heights Dr. Seward\, NE
UID:e.865.3329
SEQUENCE:3
DTSTAMP:20260421T180326Z
URL:https://business.cultivatesewardcounty.com/events/details/seward-high-school-middle-school-jazz-band-concert-11-20-2013-3329
END:VEVENT

END:VCALENDAR
