BEGIN:VCALENDAR
VERSION:2.0
PRODID:-//ChamberMaster//Event Calendar 2.0//EN
METHOD:PUBLISH
X-PUBLISHED-TTL:P3D
REFRESH-INTERVAL:P3D
CALSCALE:GREGORIAN
BEGIN:VEVENT
DTSTART:20140518T190000Z
DTEND:20140518T200000Z
X-MICROSOFT-CDO-ALLDAYEVENT:FALSE
SUMMARY:Seward High School Graduation
DESCRIPTION:Seward High School Graduation
X-ALT-DESC;FMTTYPE=text/html:Seward High School Graduation
LOCATION:Seward High School New Theater 532 Northern Heights Seward\, NE
UID:e.865.3847
SEQUENCE:3
DTSTAMP:20260421T112949Z
URL:https://business.cultivatesewardcounty.com/events/details/seward-high-school-graduation-05-18-2014-3847
END:VEVENT

END:VCALENDAR
