BEGIN:VCALENDAR
VERSION:2.0
PRODID:-//ChamberMaster//Event Calendar 2.0//EN
METHOD:PUBLISH
X-PUBLISHED-TTL:P3D
REFRESH-INTERVAL:P3D
CALSCALE:GREGORIAN
BEGIN:VEVENT
DTSTART:20130512T190000Z
DTEND:20130512T210000Z
X-MICROSOFT-CDO-ALLDAYEVENT:FALSE
SUMMARY:Seward High School Graduation
DESCRIPTION:Seward High School Graduation
X-ALT-DESC;FMTTYPE=text/html:Seward High School Graduation
LOCATION:Seward Senior High School 532 Northern Heights Drive Seward
UID:e.865.2084
SEQUENCE:3
DTSTAMP:20260422T014603Z
URL:https://business.cultivatesewardcounty.com/events/details/seward-high-school-graduation-05-12-2013-2084
END:VEVENT

END:VCALENDAR
