BEGIN:VCALENDAR
VERSION:2.0
PRODID:-//ChamberMaster//Event Calendar 2.0//EN
METHOD:PUBLISH
X-PUBLISHED-TTL:P3D
REFRESH-INTERVAL:P3D
CALSCALE:GREGORIAN
BEGIN:VEVENT
DTSTART;VALUE=DATE:20131202
DTEND;VALUE=DATE:20131203
TRANSP:TRANSPARENT
X-MICROSOFT-CDO-ALLDAYEVENT:TRUE
SUMMARY:Seward High School FCCLA Tee Shirt Drive Kick Off
DESCRIPTION:Seward High School FCCLA Tee Shirt Drive  -  students will be collecting new or "like-new" tee shirts for the homeless.  Donation sites are at the Civic Center Lobby and Seward High School.  The tee shirts collected will be donated to area city missions.
X-ALT-DESC;FMTTYPE=text/html:Seward High School FCCLA Tee Shirt Drive&nbsp\; -&nbsp\; students will be collecting new or &quot\;like-new&quot\; tee shirts for the homeless.&nbsp\; Donation sites are at the Civic Center Lobby and Seward High School.&nbsp\; The tee shirts collected will be donated to area city missions.
LOCATION:Collection sites: Civic Center Seward High School 616 Bradford St. 532 Northern Heights Dr. Seward\, NE Seward\, NE
UID:e.865.3409
SEQUENCE:3
DTSTAMP:20260421T180313Z
URL:https://business.cultivatesewardcounty.com/events/details/seward-high-school-fccla-tee-shirt-drive-kick-off-12-02-2013-3409
END:VEVENT

END:VCALENDAR
