BEGIN:VCALENDAR
VERSION:2.0
PRODID:-//ChamberMaster//Event Calendar 2.0//EN
METHOD:PUBLISH
X-PUBLISHED-TTL:P3D
REFRESH-INTERVAL:P3D
CALSCALE:GREGORIAN
BEGIN:VEVENT
DTSTART:20121030T170000Z
DTEND:20121030T230000Z
X-MICROSOFT-CDO-ALLDAYEVENT:FALSE
SUMMARY:Seward High School Blood Drive
DESCRIPTION:Donate blood and help Seward High School raise scholarship dollars through the NCBB Educational Scholarship Program. Contact Linda Zimbelmann at 402-643-2988 for an appointment.
X-ALT-DESC;FMTTYPE=text/html:Donate blood and help Seward High School raise scholarship dollars through the NCBB Educational Scholarship Program. Contact Linda Zimbelmann at 402-643-2988 for an appointment. 
LOCATION:Seward High School 532 Northern Heights Seward\, NE 68434
UID:e.865.1733
SEQUENCE:3
DTSTAMP:20260422T112435Z
URL:https://business.cultivatesewardcounty.com/events/details/seward-high-school-blood-drive-10-30-2012-1733
END:VEVENT

END:VCALENDAR
