BEGIN:VCALENDAR
VERSION:2.0
PRODID:-//ChamberMaster//Event Calendar 2.0//EN
METHOD:PUBLISH
X-PUBLISHED-TTL:P3D
REFRESH-INTERVAL:P3D
CALSCALE:GREGORIAN
BEGIN:VEVENT
DTSTART:20140502T000000Z
DTEND:20140502T010000Z
X-MICROSOFT-CDO-ALLDAYEVENT:FALSE
SUMMARY:Seward High School Band/8th Grade Concert
DESCRIPTION:Seward High School Band/8th Grade Concert
X-ALT-DESC;FMTTYPE=text/html:Seward High School Band/8th Grade Concert
LOCATION:Seward High School New Theater 532 Northern Heights Seward\, NE
UID:e.865.3843
SEQUENCE:3
DTSTAMP:20260421T100734Z
URL:https://business.cultivatesewardcounty.com/events/details/seward-high-school-band-8th-grade-concert-05-01-2014-3843
END:VEVENT

END:VCALENDAR
