BEGIN:VCALENDAR
VERSION:2.0
PRODID:-//ChamberMaster//Event Calendar 2.0//EN
METHOD:PUBLISH
X-PUBLISHED-TTL:P3D
REFRESH-INTERVAL:P3D
CALSCALE:GREGORIAN
BEGIN:VEVENT
DTSTART:20140401T000000Z
DTEND:20140401T010000Z
X-MICROSOFT-CDO-ALLDAYEVENT:FALSE
SUMMARY:Seward High School and 8th Grade Concert
DESCRIPTION:Seward High School and 8th Grade Concert
X-ALT-DESC;FMTTYPE=text/html:Seward High School and 8th Grade Concert
LOCATION:Seward High School New Theater 532 Northern Heights Drive Seward\, NE
UID:e.865.3577
SEQUENCE:3
DTSTAMP:20260421T130351Z
URL:https://business.cultivatesewardcounty.com/events/details/seward-high-school-and-8th-grade-concert-03-31-2014-3577
END:VEVENT

END:VCALENDAR
