BEGIN:VCALENDAR
VERSION:2.0
PRODID:-//ChamberMaster//Event Calendar 2.0//EN
METHOD:PUBLISH
X-PUBLISHED-TTL:P3D
REFRESH-INTERVAL:P3D
CALSCALE:GREGORIAN
BEGIN:VEVENT
DTSTART:20130820T210000Z
DTEND:20130820T220000Z
X-MICROSOFT-CDO-ALLDAYEVENT:FALSE
SUMMARY:Seward County Visitor's Committee Meeting
DESCRIPTION:Seward County Visitor's Committee Meeting.
X-ALT-DESC;FMTTYPE=text/html:Seward County Visitor&#39\;s Committee Meeting.
LOCATION:Red Path Gallery 514 Seward St. Seward\, NE
UID:e.865.889
SEQUENCE:3
DTSTAMP:20260421T220529Z
URL:https://business.cultivatesewardcounty.com/events/details/seward-county-visitor-s-committee-meeting-08-20-2013-889
END:VEVENT

END:VCALENDAR
