BEGIN:VCALENDAR
VERSION:2.0
PRODID:-//ChamberMaster//Event Calendar 2.0//EN
METHOD:PUBLISH
X-PUBLISHED-TTL:P3D
REFRESH-INTERVAL:P3D
CALSCALE:GREGORIAN
BEGIN:VEVENT
DTSTART:20130517T230000Z
DTEND:20130518T050000Z
X-MICROSOFT-CDO-ALLDAYEVENT:FALSE
SUMMARY:Seward County Relay for Life
DESCRIPTION:Seward County Relay for Life\n\n\n\nwww.acsevents.org
X-ALT-DESC;FMTTYPE=text/html:Seward County Relay for Life<br />\n<br />\n<a href="http://www.acsevents.org">www.acsevents.org</a>
LOCATION:Concordia University Track Field 800 North Columbia Seward\, NE
UID:e.865.2107
SEQUENCE:3
DTSTAMP:20260422T014705Z
URL:https://business.cultivatesewardcounty.com/events/details/seward-county-relay-for-life-05-17-2013-2107
END:VEVENT

END:VCALENDAR
