BEGIN:VCALENDAR
VERSION:2.0
PRODID:-//ChamberMaster//Event Calendar 2.0//EN
METHOD:PUBLISH
X-PUBLISHED-TTL:P3D
REFRESH-INTERVAL:P3D
CALSCALE:GREGORIAN
BEGIN:VEVENT
DTSTART:20130428T140000Z
DTEND:20130428T210000Z
X-MICROSOFT-CDO-ALLDAYEVENT:FALSE
SUMMARY:Seward County Kennel Club Dog Show
DESCRIPTION:Seward County Kennel Club Dog Show.  This is an American Kennel Club sanctioned show.  Entries are limited to dogs registered in some way with the American Kennel Club.  There are usually approximately 600 entries per day.
X-ALT-DESC;FMTTYPE=text/html:Seward County Kennel Club Dog Show.&nbsp\; This is an American Kennel Club sanctioned show.&nbsp\; Entries are limited to dogs registered in some way with the American Kennel Club.&nbsp\; There are usually approximately 600 entries per day.<br />\n<br />\n
LOCATION:Seward County Fairgrounds 500 North 14th Street Seward
UID:e.865.2095
SEQUENCE:3
DTSTAMP:20260422T032041Z
URL:https://business.cultivatesewardcounty.com/events/details/seward-county-kennel-club-dog-show-04-28-2013-2095
END:VEVENT

END:VCALENDAR
