BEGIN:VCALENDAR
VERSION:2.0
PRODID:-//ChamberMaster//Event Calendar 2.0//EN
METHOD:PUBLISH
X-PUBLISHED-TTL:P3D
REFRESH-INTERVAL:P3D
CALSCALE:GREGORIAN
BEGIN:VEVENT
DTSTART;VALUE=DATE:20130428
DTEND;VALUE=DATE:20130429
TRANSP:TRANSPARENT
X-MICROSOFT-CDO-ALLDAYEVENT:TRUE
SUMMARY:Seward County Kennel Club Dog Show
DESCRIPTION:Seward County Kennel Club Dog Show
X-ALT-DESC;FMTTYPE=text/html:Seward County Kennel Club Dog Show
LOCATION:Seward County Fairgrounds 500 North 14th Street Seward
UID:e.865.2077
SEQUENCE:3
DTSTAMP:20260422T045041Z
URL:https://business.cultivatesewardcounty.com/events/details/seward-county-kennel-club-dog-show-04-28-2013-2077
END:VEVENT

END:VCALENDAR
