BEGIN:VCALENDAR
VERSION:2.0
PRODID:-//ChamberMaster//Event Calendar 2.0//EN
METHOD:PUBLISH
X-PUBLISHED-TTL:P3D
REFRESH-INTERVAL:P3D
CALSCALE:GREGORIAN
BEGIN:VEVENT
DTSTART:20140426T130000Z
DTEND:20140427T210000Z
X-MICROSOFT-CDO-ALLDAYEVENT:FALSE
SUMMARY:Seward County Kennel Club Dog Show
DESCRIPTION:Seward County Kennel Club Dog Show - all breed dog show and obedience trial.
X-ALT-DESC;FMTTYPE=text/html:Seward County Kennel Club Dog Show - all breed dog show and obedience trial.
LOCATION:Seward County Fairgrounds Open Air Building and 4-H Center 500 North 14th St. Seward\, NE
UID:e.865.3514
SEQUENCE:3
DTSTAMP:20260421T130634Z
URL:https://business.cultivatesewardcounty.com/events/details/seward-county-kennel-club-dog-show-04-26-2014-3514
END:VEVENT

END:VCALENDAR
