BEGIN:VCALENDAR
VERSION:2.0
PRODID:-//ChamberMaster//Event Calendar 2.0//EN
METHOD:PUBLISH
X-PUBLISHED-TTL:P3D
REFRESH-INTERVAL:P3D
CALSCALE:GREGORIAN
BEGIN:VEVENT
DTSTART;VALUE=DATE:20110929
DTEND;VALUE=DATE:20111002
TRANSP:TRANSPARENT
X-MICROSOFT-CDO-ALLDAYEVENT:TRUE
SUMMARY:Seward County Fall Festival
DESCRIPTION:The Seward County Fall Festival kicks off on Thursday\, Sep 29th with the Mayor's Fun Run\, a History & Mystery Tour and fun specials in our retail stores downtown.\n\n\n\nAlso enjoy the Cemetery Tour on Friday\, Sep 30th and all of the Fall Fest activities such as the Pumpkin Weighing contest\, Pumpkin Pie Baking contest\, Spider Web Weaving\, the He-Man Pumpkin Toss and so much more on Saturday\, Oct 1st.\n\n\n\nMore details to come!!
X-ALT-DESC;FMTTYPE=text/html:The Seward County Fall Festival kicks off on Thursday\, Sep 29th with the Mayor&#39\;s Fun Run\, a History &amp\; Mystery Tour and fun specials in our retail stores downtown.<br />\n<br />\nAlso enjoy the Cemetery Tour on Friday\, Sep 30th and all of the Fall Fest activities such as the Pumpkin Weighing contest\, Pumpkin Pie Baking contest\, Spider Web Weaving\, the He-Man Pumpkin Toss and so much more on Saturday\, Oct 1st.<br />\n<br />\nMore details to come!!
LOCATION:Downtown\, Seward\, NE
UID:e.865.1149
SEQUENCE:3
DTSTAMP:20260424T154838Z
URL:https://business.cultivatesewardcounty.com/events/details/seward-county-fall-festival-09-29-2011-1149
END:VEVENT

END:VCALENDAR
