BEGIN:VCALENDAR
VERSION:2.0
PRODID:-//ChamberMaster//Event Calendar 2.0//EN
METHOD:PUBLISH
X-PUBLISHED-TTL:P3D
REFRESH-INTERVAL:P3D
CALSCALE:GREGORIAN
BEGIN:VEVENT
DTSTART;VALUE=DATE:20130801
DTEND;VALUE=DATE:20130805
TRANSP:TRANSPARENT
X-MICROSOFT-CDO-ALLDAYEVENT:TRUE
SUMMARY:Seward County Fair
DESCRIPTION:Seward County Fair  -  There is entertainment for everyone.  For more information go to:\n\n\n\nhttp://sewardcountyfair.com/countyfair.aspx
X-ALT-DESC;FMTTYPE=text/html:Seward County Fair&nbsp\; -&nbsp\; There is entertainment for everyone.&nbsp\; For more information go to:<br />\n<br />\n<a href="http://sewardcountyfair.com/countyfair.aspx">http://sewardcountyfair.com/countyfair.aspx</a>
LOCATION:Seward County Fairgrounds 500 North 14th St. Seward\, NE
UID:e.865.2831
SEQUENCE:3
DTSTAMP:20260421T214153Z
URL:https://business.cultivatesewardcounty.com/events/details/seward-county-fair-08-01-2013-2831
END:VEVENT

END:VCALENDAR
