BEGIN:VCALENDAR
VERSION:2.0
PRODID:-//ChamberMaster//Event Calendar 2.0//EN
METHOD:PUBLISH
X-PUBLISHED-TTL:P3D
REFRESH-INTERVAL:P3D
CALSCALE:GREGORIAN
BEGIN:VEVENT
DTSTART:20131019T223000Z
DTEND:20131020T033000Z
X-MICROSOFT-CDO-ALLDAYEVENT:FALSE
SUMMARY:Seward County Ducks Unlimited Fall Dinner & Banquet
DESCRIPTION:Seward County Fall Dinner and Banquet\n\n\n\n5:30 pm  Cocktails\n\n7:00 pm  Dinner\n\nLive auction to follow  -  silent auction will also be taking place\n\nhttp://www.ducks.org/nebraska/events/32133/seward-county-fall-dinner-banquet
X-ALT-DESC;FMTTYPE=text/html:Seward County Fall Dinner and Banquet<br />\n<br />\n5:30 pm&nbsp\; Cocktails<br />\n7:00 pm&nbsp\; Dinner<br />\nLive auction to follow&nbsp\; -&nbsp\; silent auction will also be taking place<br />\n<a href="http://www.ducks.org/nebraska/events/32133/seward-county-fall-dinner-banquet">http://www.ducks.org/nebraska/events/32133/seward-county-fall-dinner-banquet </a>
LOCATION:Seward County Ag Pavilion 500 North 14th St. Seward\, NE
UID:e.865.2910
SEQUENCE:3
DTSTAMP:20260421T203238Z
URL:https://business.cultivatesewardcounty.com/events/details/seward-county-ducks-unlimited-fall-dinner-banquet-10-19-2013-2910
END:VEVENT

END:VCALENDAR
