BEGIN:VCALENDAR
VERSION:2.0
PRODID:-//ChamberMaster//Event Calendar 2.0//EN
METHOD:PUBLISH
X-PUBLISHED-TTL:P3D
REFRESH-INTERVAL:P3D
CALSCALE:GREGORIAN
BEGIN:VEVENT
DTSTART:20130803T210000Z
DTEND:20130803T213000Z
X-MICROSOFT-CDO-ALLDAYEVENT:FALSE
SUMMARY:Seward County Duck Race
DESCRIPTION:Seward County Duck Race - purchase your "duck" now at the Chamber office.  Will soon be available at the following locations:  Jones National Bank\, Cattle National Bank\, Union Bank\, Seward County Independent and at other participating retail businesses.
X-ALT-DESC;FMTTYPE=text/html:Seward County Duck Race - purchase your &quot\;duck&quot\; now at the Chamber office.&nbsp\; Will soon be available at the following locations:&nbsp\; Jones National Bank\, Cattle National Bank\, Union Bank\, Seward County Independent and at other participating retail businesses.&nbsp\; 
LOCATION:Dowding Pool Moffit Park 14th and Seward St. Seward\, NE
UID:e.865.2839
SEQUENCE:3
DTSTAMP:20260421T214932Z
URL:https://business.cultivatesewardcounty.com/events/details/seward-county-duck-race-08-03-2013-2839
END:VEVENT

END:VCALENDAR
