BEGIN:VCALENDAR
VERSION:2.0
PRODID:-//ChamberMaster//Event Calendar 2.0//EN
METHOD:PUBLISH
X-PUBLISHED-TTL:P3D
REFRESH-INTERVAL:P3D
CALSCALE:GREGORIAN
BEGIN:VEVENT
DTSTART:20131119T150000Z
DTEND:20131119T160000Z
X-MICROSOFT-CDO-ALLDAYEVENT:FALSE
SUMMARY:Seward County Commissioners Meeting
DESCRIPTION:Seward County Commissioners Meeting
X-ALT-DESC;FMTTYPE=text/html:Seward County Commissioners Meeting
LOCATION:Seward County Courthouse 529 Seward St. Seward NE
UID:e.865.3404
SEQUENCE:3
DTSTAMP:20260421T180137Z
URL:https://business.cultivatesewardcounty.com/events/details/seward-county-commissioners-meeting-11-19-2013-3404
END:VEVENT

END:VCALENDAR
