BEGIN:VCALENDAR
VERSION:2.0
PRODID:-//ChamberMaster//Event Calendar 2.0//EN
METHOD:PUBLISH
X-PUBLISHED-TTL:P3D
REFRESH-INTERVAL:P3D
CALSCALE:GREGORIAN
BEGIN:VEVENT
DTSTART:20130521T140000Z
DTEND:20130521T150000Z
X-MICROSOFT-CDO-ALLDAYEVENT:FALSE
SUMMARY:Seward County Commissioners Meeting
DESCRIPTION:Seward County Commissioners Meeting
X-ALT-DESC;FMTTYPE=text/html:Seward County Commissioners Meeting
LOCATION:Seward County Courthouse 529 Seward St. Seward NE
UID:e.865.2089
SEQUENCE:3
DTSTAMP:20260422T015141Z
URL:https://business.cultivatesewardcounty.com/events/details/seward-county-commissioners-meeting-05-21-2013-2089
END:VEVENT

END:VCALENDAR
