BEGIN:VCALENDAR
VERSION:2.0
PRODID:-//ChamberMaster//Event Calendar 2.0//EN
METHOD:PUBLISH
X-PUBLISHED-TTL:P3D
REFRESH-INTERVAL:P3D
CALSCALE:GREGORIAN
BEGIN:VEVENT
DTSTART:20140316T210000Z
DTEND:20140317T000000Z
X-MICROSOFT-CDO-ALLDAYEVENT:FALSE
SUMMARY:Seward County 4-H Foundation "Bounty of the County"
DESCRIPTION:Seward County 4-H Foundation "Bounty of the County"  -  Sample food\, desserts and beverages from more than 20 restaurants\, businesses and caterers in the Seward area.  Tickets may be purchased in advance from the Seward County Extension Office or any 4-H Foundation trustee.  Proceeds support youth activities\, scholarships and grants through the Seward County 4-H Program.
X-ALT-DESC;FMTTYPE=text/html:Seward County 4-H Foundation &quot\;Bounty of the County&quot\;&nbsp\; -&nbsp\; Sample food\, desserts and beverages from more than 20 restaurants\, businesses and caterers in the Seward area.&nbsp\; Tickets may be purchased in advance from the Seward County Extension Office or any 4-H Foundation trustee.&nbsp\; Proceeds support youth activities\, scholarships and grants through the Seward County 4-H Program.&nbsp\; 
LOCATION:Seward County Ag Pavilion 500 North 14th St. Seward\, NE
UID:e.865.3504
SEQUENCE:3
DTSTAMP:20260421T143658Z
URL:https://business.cultivatesewardcounty.com/events/details/seward-county-4-h-foundation-bounty-of-the-county-03-16-2014-3504
END:VEVENT

END:VCALENDAR
