BEGIN:VCALENDAR
VERSION:2.0
PRODID:-//ChamberMaster//Event Calendar 2.0//EN
METHOD:PUBLISH
X-PUBLISHED-TTL:P3D
REFRESH-INTERVAL:P3D
CALSCALE:GREGORIAN
BEGIN:VEVENT
DTSTART:20111013T000000Z
DTEND:20111013T013000Z
X-MICROSOFT-CDO-ALLDAYEVENT:FALSE
SUMMARY:Seward City Wide Challenge
DESCRIPTION:Come learn about an exciting 90-day health challenge that is launching across the nation.  You can trim down\, shape up or completely transform your body over the next 90 days.  Challenge yourself . . . New Year\, New Look\, New You!\n\n	\n\n	Body by Vi  -  Challenge
X-ALT-DESC;FMTTYPE=text/html:<p>\n	Come learn about an exciting 90-day health challenge that is launching across the nation.&nbsp\; You can trim down\, shape up or completely transform your body over the next 90 days.&nbsp\; Challenge yourself . . . New Year\, New Look\, New You!<br />\n	<br />\n	Body by Vi&nbsp\; -&nbsp\; Challenge</p>\n
LOCATION:Concordia University Janzow Campus Center Main Lobby 800 N. Columbia\, Seward\, NE
UID:e.865.1150
SEQUENCE:3
DTSTAMP:20260424T154758Z
URL:https://business.cultivatesewardcounty.com/events/details/seward-city-wide-challenge-10-12-2011-1150
END:VEVENT

END:VCALENDAR
