BEGIN:VCALENDAR
VERSION:2.0
PRODID:-//ChamberMaster//Event Calendar 2.0//EN
METHOD:PUBLISH
X-PUBLISHED-TTL:P3D
REFRESH-INTERVAL:P3D
CALSCALE:GREGORIAN
BEGIN:VEVENT
DTSTART;VALUE=DATE:20131130
DTEND;VALUE=DATE:20131201
TRANSP:TRANSPARENT
X-MICROSOFT-CDO-ALLDAYEVENT:TRUE
SUMMARY:SEWARD CHRISTMAS FESTIVAL
DESCRIPTION:SEWARD CHRISTMAS FESTIVAL with activities and entertainment for the entire family. \n\n10:00 am  -  Santa Claus arrives at the Square\n\n10:00 am  -  Winter Wonderland opens\n\n 2:00 pm - 4:00 pm  Horse and Wagon Rides - Olde Glory Theatre & Community Hall\n\n4:00 pm  -  Pre-parade festivities begin \n\n5:30 pm  -  Lighted Christmas Parade - starts at 1st & Seward & heads west to 14th St.
X-ALT-DESC;FMTTYPE=text/html:SEWARD CHRISTMAS FESTIVAL with activities and entertainment for the entire family.&nbsp\;<br />\n10:00 am&nbsp\; -&nbsp\; Santa Claus arrives at the Square<br />\n10:00 am&nbsp\; -&nbsp\; Winter Wonderland opens<br />\n&nbsp\;2:00 pm - 4:00 pm&nbsp\; Horse and Wagon Rides - Olde Glory Theatre &amp\; Community Hall<br />\n4:00 pm&nbsp\; -&nbsp\; Pre-parade festivities begin&nbsp\;<br />\n5:30 pm&nbsp\; -&nbsp\; Lighted Christmas Parade - starts at 1st &amp\; Seward &amp\; heads west to 14th St.
LOCATION:Downtown Seward\, Nebraska
UID:e.865.2909
SEQUENCE:3
DTSTAMP:20260421T180225Z
URL:https://business.cultivatesewardcounty.com/events/details/seward-christmas-festival-11-30-2013-2909
END:VEVENT

END:VCALENDAR
