BEGIN:VCALENDAR
VERSION:2.0
PRODID:-//ChamberMaster//Event Calendar 2.0//EN
METHOD:PUBLISH
X-PUBLISHED-TTL:P3D
REFRESH-INTERVAL:P3D
CALSCALE:GREGORIAN
BEGIN:VEVENT
DTSTART:20110913T170000Z
DTEND:20110913T180000Z
X-MICROSOFT-CDO-ALLDAYEVENT:FALSE
SUMMARY:Seward Chamber Monthly Luncheon
DESCRIPTION:Everyone is invited to join us for the Seward Area Chamber of Commerce Luncheon. \n\nGuest speaker will be Dr. Wallman from the Seward Animal Clinic.
X-ALT-DESC;FMTTYPE=text/html:Everyone is invited to join us for the Seward Area Chamber of Commerce Luncheon.&nbsp\;<br />\nGuest speaker will be Dr. Wallman from the Seward Animal Clinic.
LOCATION:Seward Civic Center\, 616 Bradford St.\, Seward\, NE Lower Level East Banquet Room
UID:e.865.1140
SEQUENCE:3
DTSTAMP:20260424T185312Z
URL:https://business.cultivatesewardcounty.com/events/details/seward-chamber-monthly-luncheon-09-13-2011-1140
END:VEVENT

END:VCALENDAR
