BEGIN:VCALENDAR
VERSION:2.0
PRODID:-//ChamberMaster//Event Calendar 2.0//EN
METHOD:PUBLISH
X-PUBLISHED-TTL:P3D
REFRESH-INTERVAL:P3D
CALSCALE:GREGORIAN
BEGIN:VEVENT
DTSTART:20110518T200000Z
DTEND:20110518T203000Z
X-MICROSOFT-CDO-ALLDAYEVENT:FALSE
SUMMARY:Seward Chamber Ambassador Call
DESCRIPTION:Join the Seward Area Chamber of Commerce Ambassadors as they visit "Pac N Save" grocery and congratulate Paul and Rick on the purchase of the facility.
X-ALT-DESC;FMTTYPE=text/html:Join the Seward Area Chamber of Commerce Ambassadors as they visit &quot\;Pac N Save&quot\; grocery and congratulate Paul and Rick on the purchase of the facility.
LOCATION:Pac N Save Grocery on west Hwy 34 in Seward\, NE
UID:e.865.1085
SEQUENCE:3
DTSTAMP:20260424T231439Z
URL:https://business.cultivatesewardcounty.com/events/details/seward-chamber-ambassador-call-05-18-2011-1085
END:VEVENT

END:VCALENDAR
