BEGIN:VCALENDAR
VERSION:2.0
PRODID:-//ChamberMaster//Event Calendar 2.0//EN
METHOD:PUBLISH
X-PUBLISHED-TTL:P3D
REFRESH-INTERVAL:P3D
CALSCALE:GREGORIAN
BEGIN:VEVENT
DTSTART:20140323T120000Z
DTEND:20140323T180000Z
X-MICROSOFT-CDO-ALLDAYEVENT:FALSE
SUMMARY:Seward Boy Scout Troop 256 Pancake Feed
DESCRIPTION:Seward Boy Scout Troop 256 Pancake Feed  -  They will be serving pancakes\, sausage\, eggs\, juice and coffee.
X-ALT-DESC;FMTTYPE=text/html:Seward Boy Scout Troop 256 Pancake Feed&nbsp\; -&nbsp\; They will be serving pancakes\, sausage\, eggs\, juice and coffee.
LOCATION:Seward Civic Center 616 Bradford St. Seward\, NE
UID:e.865.3547
SEQUENCE:3
DTSTAMP:20260421T130345Z
URL:https://business.cultivatesewardcounty.com/events/details/seward-boy-scout-troop-256-pancake-feed-03-23-2014-3547
END:VEVENT

END:VCALENDAR
