BEGIN:VCALENDAR
VERSION:2.0
PRODID:-//ChamberMaster//Event Calendar 2.0//EN
METHOD:PUBLISH
X-PUBLISHED-TTL:P3D
REFRESH-INTERVAL:P3D
CALSCALE:GREGORIAN
BEGIN:VEVENT
DTSTART:20130627T170000Z
DTEND:20130627T180000Z
X-MICROSOFT-CDO-ALLDAYEVENT:FALSE
SUMMARY:Seward Area Development Corporation
DESCRIPTION:Seward Area Development Corporation (SADC) Board of Directors monthly meeting.
X-ALT-DESC;FMTTYPE=text/html:Seward Area Development Corporation (SADC) Board of Directors monthly meeting.
LOCATION:Seward County Club
UID:e.865.1558
SEQUENCE:3
DTSTAMP:20260422T014603Z
URL:https://business.cultivatesewardcounty.com/events/details/seward-area-development-corporation-06-27-2013-1558
END:VEVENT

END:VCALENDAR
