BEGIN:VCALENDAR
VERSION:2.0
PRODID:-//ChamberMaster//Event Calendar 2.0//EN
METHOD:PUBLISH
X-PUBLISHED-TTL:P3D
REFRESH-INTERVAL:P3D
CALSCALE:GREGORIAN
BEGIN:VEVENT
DTSTART:20140123T180000Z
DTEND:20140123T190000Z
X-MICROSOFT-CDO-ALLDAYEVENT:FALSE
SUMMARY:Seward Area Development Corporation
DESCRIPTION:Seward Area Development Corporation (SADC) Board of Directors monthly meeting.
X-ALT-DESC;FMTTYPE=text/html:Seward Area Development Corporation (SADC) Board of Directors monthly meeting.
LOCATION:Seward County Club
UID:e.865.1565
SEQUENCE:3
DTSTAMP:20260421T153308Z
URL:https://business.cultivatesewardcounty.com/events/details/seward-area-development-corporation-01-23-2014-1565
END:VEVENT

END:VCALENDAR
