BEGIN:VCALENDAR
VERSION:2.0
PRODID:-//ChamberMaster//Event Calendar 2.0//EN
METHOD:PUBLISH
X-PUBLISHED-TTL:P3D
REFRESH-INTERVAL:P3D
CALSCALE:GREGORIAN
BEGIN:VEVENT
DTSTART:20120204T210000Z
DTEND:20120204T230000Z
X-MICROSOFT-CDO-ALLDAYEVENT:FALSE
SUMMARY:Seward Area Crop Producers Meeting
DESCRIPTION:Farmers Risk Management Meeting
X-ALT-DESC;FMTTYPE=text/html:Farmers Risk Management Meeting
LOCATION:Seward VFW
UID:e.865.1014
SEQUENCE:3
DTSTAMP:20260424T111557Z
URL:https://business.cultivatesewardcounty.com/events/details/seward-area-crop-producers-meeting-02-04-2012-1014
END:VEVENT

END:VCALENDAR
