BEGIN:VCALENDAR
VERSION:2.0
PRODID:-//ChamberMaster//Event Calendar 2.0//EN
METHOD:PUBLISH
X-PUBLISHED-TTL:P3D
REFRESH-INTERVAL:P3D
CALSCALE:GREGORIAN
BEGIN:VEVENT
DTSTART:20140419T130000Z
DTEND:20140419T180000Z
X-MICROSOFT-CDO-ALLDAYEVENT:FALSE
SUMMARY:Seward Area Chamber of Commerce Spring Clean Up
DESCRIPTION:Seward Area Chamber of Commerce Spring Clean Up\n\n\n\nMore information will be posted later.  Please check back!!\n\n\n\nhttp://www.sewardne.com
X-ALT-DESC;FMTTYPE=text/html:Seward Area Chamber of Commerce Spring Clean Up<br />\n<br />\nMore information will be posted later.&nbsp\; Please check back!!<br />\n<br />\n<a href="http://www.sewardne.com">http://www.sewardne.com</a>
LOCATION:
UID:e.865.3546
SEQUENCE:3
DTSTAMP:20260421T130350Z
URL:https://business.cultivatesewardcounty.com/events/details/seward-area-chamber-of-commerce-spring-clean-up-04-19-2014-3546
END:VEVENT

END:VCALENDAR
