BEGIN:VCALENDAR
VERSION:2.0
PRODID:-//ChamberMaster//Event Calendar 2.0//EN
METHOD:PUBLISH
X-PUBLISHED-TTL:P3D
REFRESH-INTERVAL:P3D
CALSCALE:GREGORIAN
BEGIN:VEVENT
DTSTART:20110520T000000Z
DTEND:20110520T013000Z
X-MICROSOFT-CDO-ALLDAYEVENT:FALSE
SUMMARY:Seward 4th of July Committee Meeting
DESCRIPTION:Monthly meeting of the Seward 4th of July Committee.  All interested in helping with Seward's largest community event are welcome to attend.
X-ALT-DESC;FMTTYPE=text/html:Monthly meeting of the Seward 4th of July Committee.&nbsp\; All interested in helping with Seward&#39\;s largest community event are welcome to attend.
LOCATION:Seward Civic Center\, 616 Bradford St.\, Seward\, NE 68434 - West Fireplace Room
UID:e.865.1086
SEQUENCE:3
DTSTAMP:20260424T231927Z
URL:https://business.cultivatesewardcounty.com/events/details/seward-4th-of-july-committee-meeting-05-19-2011-1086
END:VEVENT

END:VCALENDAR
