BEGIN:VCALENDAR
VERSION:2.0
PRODID:-//ChamberMaster//Event Calendar 2.0//EN
METHOD:PUBLISH
X-PUBLISHED-TTL:P3D
REFRESH-INTERVAL:P3D
CALSCALE:GREGORIAN
BEGIN:VEVENT
DTSTART:20130518T130000Z
DTEND:20130518T200000Z
X-MICROSOFT-CDO-ALLDAYEVENT:FALSE
SUMMARY:Seward 2nd Annual City-Wide Garage Sales
DESCRIPTION:Plans are in the works for the 2nd Annual City-Wide Garage Sales. Watch here for more details!
X-ALT-DESC;FMTTYPE=text/html:Plans are in the works for the 2nd Annual City-Wide Garage Sales. Watch here for more details!
LOCATION:City-Wide
UID:e.865.1764
SEQUENCE:3
DTSTAMP:20260422T015446Z
URL:https://business.cultivatesewardcounty.com/events/details/seward-2nd-annual-city-wide-garage-sales-05-18-2013-1764
END:VEVENT

END:VCALENDAR
