BEGIN:VCALENDAR
VERSION:2.0
PRODID:-//ChamberMaster//Event Calendar 2.0//EN
METHOD:PUBLISH
X-PUBLISHED-TTL:P3D
REFRESH-INTERVAL:P3D
CALSCALE:GREGORIAN
BEGIN:VEVENT
DTSTART:20130426T233000Z
DTEND:20130427T013000Z
X-MICROSOFT-CDO-ALLDAYEVENT:FALSE
SUMMARY:Senior Citizen Prom
DESCRIPTION:The Annual Senior Citizen Prom with music provided by the Lincoln Shrine Band and the Seward KiTones.  Snacks and punch will be available.
X-ALT-DESC;FMTTYPE=text/html:The Annual Senior Citizen Prom&nbsp\;with music provided by the Lincoln Shrine Band and the Seward KiTones.&nbsp\; Snacks and punch will be available.
LOCATION:Seward High School 532 Northern Heights Drive Seward\, NE
UID:e.865.2080
SEQUENCE:3
DTSTAMP:20260422T031455Z
URL:https://business.cultivatesewardcounty.com/events/details/senior-citizen-prom-04-26-2013-2080
END:VEVENT

END:VCALENDAR
