BEGIN:VCALENDAR
VERSION:2.0
PRODID:-//ChamberMaster//Event Calendar 2.0//EN
METHOD:PUBLISH
X-PUBLISHED-TTL:P3D
REFRESH-INTERVAL:P3D
CALSCALE:GREGORIAN
BEGIN:VEVENT
DTSTART:20140412T180000Z
DTEND:20140412T190000Z
X-MICROSOFT-CDO-ALLDAYEVENT:FALSE
SUMMARY:Second Saturday Author Series
DESCRIPTION:Second Saturday Author Series. Reading and discussion with Lydia Kang\, author of the young adult novel Control\, followed by signing with Seward picture book author Linda Svoboda and Omahan Carol Bicak\, author of The Littlest Lion.
X-ALT-DESC;FMTTYPE=text/html:Second Saturday Author Series. Reading and discussion with Lydia Kang\, author of the young adult novel <em>Control</em>\, followed by signing with Seward picture book author Linda Svoboda and Omahan Carol Bicak\, author of <em>The Littlest Lion.</em>
LOCATION:Chapters Books & Gifts\, 548 Seward
UID:e.865.3570
SEQUENCE:3
DTSTAMP:20260421T112600Z
URL:https://business.cultivatesewardcounty.com/events/details/second-saturday-author-series-04-12-2014-3570
END:VEVENT

END:VCALENDAR
