BEGIN:VCALENDAR
VERSION:2.0
PRODID:-//ChamberMaster//Event Calendar 2.0//EN
METHOD:PUBLISH
X-PUBLISHED-TTL:P3D
REFRESH-INTERVAL:P3D
CALSCALE:GREGORIAN
BEGIN:VEVENT
DTSTART:20140308T190000Z
DTEND:20140308T200000Z
X-MICROSOFT-CDO-ALLDAYEVENT:FALSE
SUMMARY:Second Saturday Author Series
DESCRIPTION:Second Saturday Author Series at Chapters Books & Gifts. Book release party for Stephanie Grace Whitson\, with special guests Michael Curd and Kathy Wiens\, both formerly of Milford.
X-ALT-DESC;FMTTYPE=text/html:Second Saturday Author Series at Chapters Books &amp\; Gifts. Book release party for Stephanie Grace Whitson\, with special guests Michael Curd and Kathy Wiens\, both formerly of Milford.
LOCATION:Chapters Books & Gifts\, 548 Seward St.
UID:e.865.3568
SEQUENCE:3
DTSTAMP:20260421T141707Z
URL:https://business.cultivatesewardcounty.com/events/details/second-saturday-author-series-03-08-2014-3568
END:VEVENT

END:VCALENDAR
